 BEGIN:VCALENDAR
VERSION:1.0
PRODID:SSPCA Web Calendar
TZ:-07
BEGIN:VEVENT
ORGANIZER:MAILTO: Kevin.kang@reedexpo.com.cn
SUMMARY;ENCODING=QUOTED-PRINTABLE: IMC 2012 - INDUSTRIAL MATERIALS CHINA 2012 & Green Processing China 2012
LOCATION;ENCODING=QUOTED-PRINTABLE: Shanghai
DESCRIPTION;ENCODING=QUOTED-PRINTABLE: More Details£º=0D=0A
DTSTART:20120606T000000Z 
DTEND:20120608T000000Z 
END:VEVENT
END:VCALENDAR