 BEGIN:VCALENDAR
VERSION:1.0
PRODID:SSPCA Web Calendar
TZ:-07
BEGIN:VEVENT
ORGANIZER:MAILTO: NikkiK@noppen.com.cn
SUMMARY;ENCODING=QUOTED-PRINTABLE: AMSDS 2012 - China Airline Management and Sustainable Development Summit 2012
LOCATION;ENCODING=QUOTED-PRINTABLE: Tianjin
DESCRIPTION;ENCODING=QUOTED-PRINTABLE: More Details£º=0D=0A
DTSTART:20120308T000000Z 
DTEND:20120309T000000Z 
END:VEVENT
END:VCALENDAR