 BEGIN:VCALENDAR
VERSION:1.0
PRODID:SSPCA Web Calendar
TZ:-07
BEGIN:VEVENT
ORGANIZER:MAILTO: donnor@163.com
SUMMARY;ENCODING=QUOTED-PRINTABLE: Print 2012 - 2012 West China Printing and Packaging Industry Docking Expo
LOCATION;ENCODING=QUOTED-PRINTABLE: Chengdu
DESCRIPTION;ENCODING=QUOTED-PRINTABLE: More Details£º=0D=0A
DTSTART:20120302T000000Z 
DTEND:20120305T000000Z 
END:VEVENT
END:VCALENDAR