 BEGIN:VCALENDAR
VERSION:1.0
PRODID:SSPCA Web Calendar
TZ:-07
BEGIN:VEVENT
ORGANIZER:MAILTO: info@newayfairs.com
SUMMARY;ENCODING=QUOTED-PRINTABLE: Beijing International Jewellery Fair 2012 - The 13th Beijing International Jewellery Fair
LOCATION;ENCODING=QUOTED-PRINTABLE: Beijing
DESCRIPTION;ENCODING=QUOTED-PRINTABLE: More Details£º=0D=0A
DTSTART:20120713T000000Z 
DTEND:20120716T000000Z 
END:VEVENT
END:VCALENDAR