 BEGIN:VCALENDAR
VERSION:1.0
PRODID:SSPCA Web Calendar
TZ:-07
BEGIN:VEVENT
ORGANIZER:MAILTO: 
SUMMARY;ENCODING=QUOTED-PRINTABLE: The 5th China(Foshan) Internaitional Metals Expo 2011 (CFME)
LOCATION;ENCODING=QUOTED-PRINTABLE: Foshan
DESCRIPTION;ENCODING=QUOTED-PRINTABLE: More Details£º=0D=0A
DTSTART:20110318T000000Z 
DTEND:20110320T000000Z 
END:VEVENT
END:VCALENDAR