 BEGIN:VCALENDAR
VERSION:1.0
PRODID:SSPCA Web Calendar
TZ:-07
BEGIN:VEVENT
ORGANIZER:MAILTO: tpshoes@footwearnet.org.tw
SUMMARY;ENCODING=QUOTED-PRINTABLE: TPSHOES 2012 - Taipei International Shoes Fair Autumn & Winter 2012
LOCATION;ENCODING=QUOTED-PRINTABLE: Taipei
DESCRIPTION;ENCODING=QUOTED-PRINTABLE: More Details£º=0D=0A
DTSTART:20120711T000000Z 
DTEND:20120714T000000Z 
END:VEVENT
END:VCALENDAR