 BEGIN:VCALENDAR
VERSION:1.0
PRODID:SSPCA Web Calendar
TZ:-07
BEGIN:VEVENT
ORGANIZER:MAILTO: cycle@taitra.org.tw
SUMMARY;ENCODING=QUOTED-PRINTABLE: TAIPEI CYCLE 2012 - The 25th Taipei International Cycle Show
LOCATION;ENCODING=QUOTED-PRINTABLE: Taipei
DESCRIPTION;ENCODING=QUOTED-PRINTABLE: More Details£º=0D=0A
DTSTART:20120307T000000Z 
DTEND:20120310T000000Z 
END:VEVENT
END:VCALENDAR