 BEGIN:VCALENDAR
VERSION:1.0
PRODID:SSPCA Web Calendar
TZ:-07
BEGIN:VEVENT
ORGANIZER:MAILTO: econtact@cnchemicals.com
SUMMARY;ENCODING=QUOTED-PRINTABLE: China Crop Protection Summit 2012
LOCATION;ENCODING=QUOTED-PRINTABLE: Shanghai
DESCRIPTION;ENCODING=QUOTED-PRINTABLE: More Details£º=0D=0Ahttp://chinaexhibition.com/trade_events/1353-China_Crop_Protection_Summit_2012.html
DTSTART:20120308T000000Z 
DTEND:20120309T000000Z 
END:VEVENT
END:VCALENDAR