 BEGIN:VCALENDAR
VERSION:1.0
PRODID:SSPCA Web Calendar
TZ:-07
BEGIN:VEVENT
ORGANIZER:MAILTO: yolanda.lin@china.messefrankfurt.com 
SUMMARY;ENCODING=QUOTED-PRINTABLE: ISH China & CIHE 2012
LOCATION;ENCODING=QUOTED-PRINTABLE: Beijing
DESCRIPTION;ENCODING=QUOTED-PRINTABLE: More Details£º=0D=0Ahttp://chinaexhibition.com/trade_events/1386-ISH_China_and_CIHE_2012.html
DTSTART:20120404T000000Z 
DTEND:20120406T000000Z 
END:VEVENT
END:VCALENDAR