 BEGIN:VCALENDAR
VERSION:1.0
PRODID:SSPCA Web Calendar
TZ:-07
BEGIN:VEVENT
ORGANIZER:MAILTO: cindy.gehuaexpo@gmail.com
SUMMARY;ENCODING=QUOTED-PRINTABLE: Vogue Shanghai 2012 - 2nd Shanghai International Sweater & Cashmere Expo
LOCATION;ENCODING=QUOTED-PRINTABLE: Shanghai
DESCRIPTION;ENCODING=QUOTED-PRINTABLE: More Details£º=0D=0A
DTSTART:20120305T000000Z 
DTEND:20120307T000000Z 
END:VEVENT
END:VCALENDAR