 BEGIN:VCALENDAR
VERSION:1.0
PRODID:SSPCA Web Calendar
TZ:-07
BEGIN:VEVENT
ORGANIZER:MAILTO: espofair@sina.com
SUMMARY;ENCODING=QUOTED-PRINTABLE: The 19th China International Exhibition for Kitchen & Sanitary Ware
LOCATION;ENCODING=QUOTED-PRINTABLE: Beijing
DESCRIPTION;ENCODING=QUOTED-PRINTABLE: More Details£º=0D=0A
DTSTART:20120305T000000Z 
DTEND:20120308T000000Z 
END:VEVENT
END:VCALENDAR