 BEGIN:VCALENDAR
VERSION:1.0
PRODID:SSPCA Web Calendar
TZ:-07
BEGIN:VEVENT
ORGANIZER:MAILTO: Keling_keli2002@yahoo.com.cn
SUMMARY;ENCODING=QUOTED-PRINTABLE: ICGCE 2012 - 2012 Beijing International Creative Gifts & Crafts Exhibition
LOCATION;ENCODING=QUOTED-PRINTABLE: Beijing
DESCRIPTION;ENCODING=QUOTED-PRINTABLE: More Details£º=0D=0A
DTSTART:20120302T000000Z 
DTEND:20120305T000000Z 
END:VEVENT
END:VCALENDAR