 BEGIN:VCALENDAR
VERSION:1.0
PRODID:SSPCA Web Calendar
TZ:-07
BEGIN:VEVENT
ORGANIZER:MAILTO: 
SUMMARY;ENCODING=QUOTED-PRINTABLE: Dalian Summer Real Estate Fair 2012
LOCATION;ENCODING=QUOTED-PRINTABLE: Dalian
DESCRIPTION;ENCODING=QUOTED-PRINTABLE: More Details£º=0D=0Ahttp://chinaexhibition.com/trade_events/1597-Dalian_Summer_Real_Estate_Fair_2012.html
DTSTART:20120712T000000Z 
DTEND:20120716T000000Z 
END:VEVENT
END:VCALENDAR