 BEGIN:VCALENDAR
VERSION:1.0
PRODID:SSPCA Web Calendar
TZ:-07
BEGIN:VEVENT
ORGANIZER:MAILTO: 
SUMMARY;ENCODING=QUOTED-PRINTABLE: East Asia International Travel Fair (EAITF)
LOCATION;ENCODING=QUOTED-PRINTABLE: Dalian
DESCRIPTION;ENCODING=QUOTED-PRINTABLE: More Details£º=0D=0Ahttp://chinaexhibition.com/trade_events/174-East_Asia_International_Travel_Fair_(EAITF).html
DTSTART:20111014T000000Z 
DTEND:20111016T000000Z 
END:VEVENT
END:VCALENDAR