 BEGIN:VCALENDAR
VERSION:1.0
PRODID:SSPCA Web Calendar
TZ:-07
BEGIN:VEVENT
ORGANIZER:MAILTO: 
SUMMARY;ENCODING=QUOTED-PRINTABLE: 2012 FDI Annual World Dental Congress
LOCATION;ENCODING=QUOTED-PRINTABLE: Hong Kong
DESCRIPTION;ENCODING=QUOTED-PRINTABLE: More Details£º=0D=0Ahttp://chinaexhibition.com/trade_events/1889-2012_FDI_Annual_World_Dental_Congress.html
DTSTART:20120829T000000Z 
DTEND:20120901T000000Z 
END:VEVENT
END:VCALENDAR