 BEGIN:VCALENDAR
VERSION:1.0
PRODID:SSPCA Web Calendar
TZ:-07
BEGIN:VEVENT
ORGANIZER:MAILTO: andrew.worner@terrapinn.com
SUMMARY;ENCODING=QUOTED-PRINTABLE: Quant Invest Asia 2012
LOCATION;ENCODING=QUOTED-PRINTABLE: Hong Kong
DESCRIPTION;ENCODING=QUOTED-PRINTABLE: More Details£º=0D=0Ahttp://chinaexhibition.com/trade_events/1900-Quant_Invest_Asia_2012.html
DTSTART:20120905T000000Z 
DTEND:20120906T000000Z 
END:VEVENT
END:VCALENDAR