 BEGIN:VCALENDAR
VERSION:1.0
PRODID:SSPCA Web Calendar
TZ:-07
BEGIN:VEVENT
ORGANIZER:MAILTO: fbf@3f.net.cn
SUMMARY;ENCODING=QUOTED-PRINTABLE: 3F 2012 - The 28th International Famous Furniture Fair (Dongguan) (3F)
LOCATION;ENCODING=QUOTED-PRINTABLE: Dongguan
DESCRIPTION;ENCODING=QUOTED-PRINTABLE: More Details£º=0D=0A
DTSTART:20120905T000000Z 
DTEND:20120909T000000Z 
END:VEVENT
END:VCALENDAR