 BEGIN:VCALENDAR
VERSION:1.0
PRODID:SSPCA Web Calendar
TZ:-07
BEGIN:VEVENT
ORGANIZER:MAILTO: 
SUMMARY;ENCODING=QUOTED-PRINTABLE: CIEME 2012 - 2012 China International Equipment Manufacturing Exposition
LOCATION;ENCODING=QUOTED-PRINTABLE: Shenyang
DESCRIPTION;ENCODING=QUOTED-PRINTABLE: More Details£º=0D=0A
DTSTART:20120901T000000Z 
DTEND:20120905T000000Z 
END:VEVENT
END:VCALENDAR