 BEGIN:VCALENDAR
VERSION:1.0
PRODID:SSPCA Web Calendar
TZ:-07
BEGIN:VEVENT
ORGANIZER:MAILTO: 
SUMMARY;ENCODING=QUOTED-PRINTABLE: Coffee Expo Macao 2012
LOCATION;ENCODING=QUOTED-PRINTABLE: Macau/Macao
DESCRIPTION;ENCODING=QUOTED-PRINTABLE: More Details£º=0D=0Ahttp://chinaexhibition.com/trade_events/2083-Coffee_Expo_Macao_2012.html
DTSTART:20120629T000000Z 
DTEND:20120701T000000Z 
END:VEVENT
END:VCALENDAR