 BEGIN:VCALENDAR
VERSION:1.0
PRODID:SSPCA Web Calendar
TZ:-07
BEGIN:VEVENT
ORGANIZER:MAILTO: info@giccgroup.com
SUMMARY;ENCODING=QUOTED-PRINTABLE: UG 2012 - 2nd Annual Unconventional Oil & Gas Summit China 2012
LOCATION;ENCODING=QUOTED-PRINTABLE: Zhengzhou
DESCRIPTION;ENCODING=QUOTED-PRINTABLE: More Details£º=0D=0A
DTSTART:20120905T000000Z 
DTEND:20120907T000000Z 
END:VEVENT
END:VCALENDAR