 BEGIN:VCALENDAR
VERSION:1.0
PRODID:SSPCA Web Calendar
TZ:-07
BEGIN:VEVENT
ORGANIZER:MAILTO: 
SUMMARY;ENCODING=QUOTED-PRINTABLE: S.Mould 2013 - Shenzhen International Mould Making Technology  & Product Exhibition 2013
LOCATION;ENCODING=QUOTED-PRINTABLE: Shenzhen
DESCRIPTION;ENCODING=QUOTED-PRINTABLE: More Details£º=0D=0A
DTSTART:20130328T000000Z 
DTEND:20130331T000000Z 
END:VEVENT
END:VCALENDAR