 BEGIN:VCALENDAR
VERSION:1.0
PRODID:SSPCA Web Calendar
TZ:-07
BEGIN:VEVENT
ORGANIZER:MAILTO: lucy@ewatch.cn; fair@ewatch.cn;
SUMMARY;ENCODING=QUOTED-PRINTABLE: CWJF 2012 - The 23rd China Watch Jewellery & Gift Fair
LOCATION;ENCODING=QUOTED-PRINTABLE: Shenzhen
DESCRIPTION;ENCODING=QUOTED-PRINTABLE: More Details£º=0D=0A
DTSTART:20120628T000000Z 
DTEND:20120701T000000Z 
END:VEVENT
END:VCALENDAR