 BEGIN:VCALENDAR
VERSION:1.0
PRODID:SSPCA Web Calendar
TZ:-07
BEGIN:VEVENT
ORGANIZER:MAILTO: show@chanchao.com.tw;
SUMMARY;ENCODING=QUOTED-PRINTABLE: TIROS Taipei 2013 - Taipei International Robot Show 2013
LOCATION;ENCODING=QUOTED-PRINTABLE: Taipei
DESCRIPTION;ENCODING=QUOTED-PRINTABLE: More Details£º=0D=0A
DTSTART:20130828T000000Z 
DTEND:20130831T000000Z 
END:VEVENT
END:VCALENDAR