 BEGIN:VCALENDAR
VERSION:1.0
PRODID:SSPCA Web Calendar
TZ:-07
BEGIN:VEVENT
ORGANIZER:MAILTO: jenny@shanghaimart.com.cn;joey.shen@shanghaimart.com.cn
SUMMARY;ENCODING=QUOTED-PRINTABLE: STA 2013 - Shanghai Textile & Apparel Trade Fair (Spring) 2013
LOCATION;ENCODING=QUOTED-PRINTABLE: Shanghai
DESCRIPTION;ENCODING=QUOTED-PRINTABLE: More Details£º=0D=0A
DTSTART:20130417T000000Z 
DTEND:20130419T000000Z 
END:VEVENT
END:VCALENDAR