 BEGIN:VCALENDAR
VERSION:1.0
PRODID:SSPCA Web Calendar
TZ:-07
BEGIN:VEVENT
ORGANIZER:MAILTO: 
SUMMARY;ENCODING=QUOTED-PRINTABLE: Taiwan Nano Exhibition (2011 Taiwan Nano)
LOCATION;ENCODING=QUOTED-PRINTABLE: Taipei
DESCRIPTION;ENCODING=QUOTED-PRINTABLE: More Details£º=0D=0Ahttp://chinaexhibition.com/trade_events/337-Taiwan_Nano_Exhibition_(2011_Taiwan_Nano).html
DTSTART:20111005T000000Z 
DTEND:20111007T000000Z 
END:VEVENT
END:VCALENDAR