 BEGIN:VCALENDAR
VERSION:1.0
PRODID:SSPCA Web Calendar
TZ:-07
BEGIN:VEVENT
ORGANIZER:MAILTO: souvenir@taitra.org.tw
SUMMARY;ENCODING=QUOTED-PRINTABLE: Taiwan Souvenir 2013 - Taiwan Souvenir & Handicraft Show 2013
LOCATION;ENCODING=QUOTED-PRINTABLE: Taipei
DESCRIPTION;ENCODING=QUOTED-PRINTABLE: More Details£º=0D=0A
DTSTART:20130425T000000Z 
DTEND:20130428T000000Z 
END:VEVENT
END:VCALENDAR