 BEGIN:VCALENDAR
VERSION:1.0
PRODID:SSPCA Web Calendar
TZ:-07
BEGIN:VEVENT
ORGANIZER:MAILTO: 
SUMMARY;ENCODING=QUOTED-PRINTABLE: Xiamen Stone Fair 2012
LOCATION;ENCODING=QUOTED-PRINTABLE: Xiamen
DESCRIPTION;ENCODING=QUOTED-PRINTABLE: More Details£º=0D=0Ahttp://chinaexhibition.com/trade_events/356-Xiamen_Stone_Fair_2012.html
DTSTART:20120306T000000Z 
DTEND:20120309T000000Z 
END:VEVENT
END:VCALENDAR