 BEGIN:VCALENDAR
VERSION:1.0
PRODID:SSPCA Web Calendar
TZ:-07
BEGIN:VEVENT
ORGANIZER:MAILTO: hyq@ccfa.org.cn;lidong@biec.com.cn
SUMMARY;ENCODING=QUOTED-PRINTABLE: SIFE 2013 - The 10th Shanghai International Franchise Exhibition 2013
LOCATION;ENCODING=QUOTED-PRINTABLE: Shanghai
DESCRIPTION;ENCODING=QUOTED-PRINTABLE: More Details£º=0D=0A
DTSTART:20130914T000000Z 
DTEND:20130916T000000Z 
END:VEVENT
END:VCALENDAR