 BEGIN:VCALENDAR
VERSION:1.0
PRODID:SSPCA Web Calendar
TZ:-07
BEGIN:VEVENT
ORGANIZER:MAILTO: furniture@ubmsinoexpo.com
SUMMARY;ENCODING=QUOTED-PRINTABLE: The 17th China International Furniture Expo (Furniture China 2011)
LOCATION;ENCODING=QUOTED-PRINTABLE: Shanghai
DESCRIPTION;ENCODING=QUOTED-PRINTABLE: More Details£º=0D=0A
DTSTART:20110914T000000Z 
DTEND:20110917T000000Z 
END:VEVENT
END:VCALENDAR