 BEGIN:VCALENDAR
VERSION:1.0
PRODID:SSPCA Web Calendar
TZ:-07
BEGIN:VEVENT
ORGANIZER:MAILTO: mwcs@hmf-china.com
SUMMARY;ENCODING=QUOTED-PRINTABLE: MWCS 2014 - Metalworking and CNC Machine Tool Show 2014
LOCATION;ENCODING=QUOTED-PRINTABLE: Shanghai
DESCRIPTION;ENCODING=QUOTED-PRINTABLE: More Details£º=0D=0A
DTSTART:20141104T000000Z 
DTEND:20141108T000000Z 
END:VEVENT
END:VCALENDAR