 BEGIN:VCALENDAR
VERSION:1.0
PRODID:SSPCA Web Calendar
TZ:-07
BEGIN:VEVENT
ORGANIZER:MAILTO: sh.liu@koelnmesse.cn;
SUMMARY;ENCODING=QUOTED-PRINTABLE: CIKB 2014 - The 10th China International Kitchen and Bathroom Expo 2014
LOCATION;ENCODING=QUOTED-PRINTABLE: Shanghai
DESCRIPTION;ENCODING=QUOTED-PRINTABLE: More Details£º=0D=0A
DTSTART:20141105T000000Z 
DTEND:20141107T000000Z 
END:VEVENT
END:VCALENDAR