 BEGIN:VCALENDAR
VERSION:1.0
PRODID:SSPCA Web Calendar
TZ:-07
BEGIN:VEVENT
ORGANIZER:MAILTO: ruihongfair@163.com
SUMMARY;ENCODING=QUOTED-PRINTABLE: 2014 The 13th China Guangzhou International Leather Bags, Hand Bags Fair
LOCATION;ENCODING=QUOTED-PRINTABLE: Guangzhou
DESCRIPTION;ENCODING=QUOTED-PRINTABLE: More Details£º=0D=0A
DTSTART:20140501T000000Z 
DTEND:20140503T000000Z 
END:VEVENT
END:VCALENDAR