 BEGIN:VCALENDAR
VERSION:1.0
PRODID:SSPCA Web Calendar
TZ:-07
BEGIN:VEVENT
ORGANIZER:MAILTO: 
SUMMARY;ENCODING=QUOTED-PRINTABLE: China Education Expo-Qingdao
LOCATION;ENCODING=QUOTED-PRINTABLE: Qingdao
DESCRIPTION;ENCODING=QUOTED-PRINTABLE: More Details£º=0D=0Ahttp://chinaexhibition.com/trade_events/563-China_Education_Expo-Qingdao.html
DTSTART:20111018T000000Z 
DTEND:20111018T000000Z 
END:VEVENT
END:VCALENDAR