 BEGIN:VCALENDAR
VERSION:1.0
PRODID:SSPCA Web Calendar
TZ:-07
BEGIN:VEVENT
ORGANIZER:MAILTO: fair@eccc.com.cn
SUMMARY;ENCODING=QUOTED-PRINTABLE: The 18th China International Ceramic & Bathroom Fair Foshan
LOCATION;ENCODING=QUOTED-PRINTABLE: Foshan
DESCRIPTION;ENCODING=QUOTED-PRINTABLE: More Details£º=0D=0A
DTSTART:20111018T000000Z 
DTEND:20111022T000000Z 
END:VEVENT
END:VCALENDAR