 BEGIN:VCALENDAR
VERSION:1.0
PRODID:SSPCA Web Calendar
TZ:-07
BEGIN:VEVENT
ORGANIZER:MAILTO: cshenhainu@gmail.com
SUMMARY;ENCODING=QUOTED-PRINTABLE: ICWCA 2011 (International Conference on Wireless Communications and   Applications)
LOCATION;ENCODING=QUOTED-PRINTABLE: Sanya
DESCRIPTION;ENCODING=QUOTED-PRINTABLE: More Details£º=0D=0A
DTSTART:20110801T000000Z 
DTEND:20110803T000000Z 
END:VEVENT
END:VCALENDAR