 BEGIN:VCALENDAR
VERSION:1.0
PRODID:SSPCA Web Calendar
TZ:-07
BEGIN:VEVENT
ORGANIZER:MAILTO: steelstr@hnzmedia.com
SUMMARY;ENCODING=QUOTED-PRINTABLE: Steelstr China 2014 - The 4th Steel Construction Summit & Exhibition 2014
LOCATION;ENCODING=QUOTED-PRINTABLE: Beijing
DESCRIPTION;ENCODING=QUOTED-PRINTABLE: More Details£º=0D=0A
DTSTART:20140507T000000Z 
DTEND:20140509T000000Z 
END:VEVENT
END:VCALENDAR