 BEGIN:VCALENDAR
VERSION:1.0
PRODID:SSPCA Web Calendar
TZ:-07
BEGIN:VEVENT
ORGANIZER:MAILTO: marcom@mesago-holding-exhibitions.com
SUMMARY;ENCODING=QUOTED-PRINTABLE: Marcom Beijing 2011
LOCATION;ENCODING=QUOTED-PRINTABLE: Beijing
DESCRIPTION;ENCODING=QUOTED-PRINTABLE: More Details£º=0D=0Ahttp://chinaexhibition.com/trade_events/603-Marcom_Beijing_2011.html
DTSTART:20110802T000000Z 
DTEND:20110804T000000Z 
END:VEVENT
END:VCALENDAR