 BEGIN:VCALENDAR
VERSION:1.0
PRODID:SSPCA Web Calendar
TZ:-07
BEGIN:VEVENT
ORGANIZER:MAILTO: Hometextiles_gd@163.com
SUMMARY;ENCODING=QUOTED-PRINTABLE: Home DÃ©cor Exhibition Shenzhen Hometex 2011(HDESH 2011)
LOCATION;ENCODING=QUOTED-PRINTABLE: Shenzhen
DESCRIPTION;ENCODING=QUOTED-PRINTABLE: More Details£º=0D=0A
DTSTART:20110803T000000Z 
DTEND:20110805T000000Z 
END:VEVENT
END:VCALENDAR