 BEGIN:VCALENDAR
VERSION:1.0
PRODID:SSPCA Web Calendar
TZ:-07
BEGIN:VEVENT
ORGANIZER:MAILTO: echo@unifair.com
SUMMARY;ENCODING=QUOTED-PRINTABLE: The 12th China International Laundry & Dyeing Industry Exhibition (CILDIE 2011)
LOCATION;ENCODING=QUOTED-PRINTABLE: Beijing
DESCRIPTION;ENCODING=QUOTED-PRINTABLE: More Details£º=0D=0A
DTSTART:20110804T000000Z 
DTEND:20110806T000000Z 
END:VEVENT
END:VCALENDAR