 BEGIN:VCALENDAR
VERSION:1.0
PRODID:SSPCA Web Calendar
TZ:-07
BEGIN:VEVENT
ORGANIZER:MAILTO: 
SUMMARY;ENCODING=QUOTED-PRINTABLE: The 13th Qingdao Machine Tools & Moulds Exhibition (QMTME 2011)
LOCATION;ENCODING=QUOTED-PRINTABLE: Qingdao
DESCRIPTION;ENCODING=QUOTED-PRINTABLE: More Details£º=0D=0A
DTSTART:20110804T000000Z 
DTEND:20110807T000000Z 
END:VEVENT
END:VCALENDAR