 BEGIN:VCALENDAR
VERSION:1.0
PRODID:SSPCA Web Calendar
TZ:-07
BEGIN:VEVENT
ORGANIZER:MAILTO: 
SUMMARY;ENCODING=QUOTED-PRINTABLE: CIOMP-OSA International Summer Session: Lasers and Their Applications in Changchun
LOCATION;ENCODING=QUOTED-PRINTABLE: Changchun
DESCRIPTION;ENCODING=QUOTED-PRINTABLE: More Details£º=0D=0A
DTSTART:20110731T000000Z 
DTEND:20110805T000000Z 
END:VEVENT
END:VCALENDAR