 BEGIN:VCALENDAR
VERSION:1.0
PRODID:SSPCA Web Calendar
TZ:-07
BEGIN:VEVENT
ORGANIZER:MAILTO: hwexpo@yahoo.com.cn
SUMMARY;ENCODING=QUOTED-PRINTABLE: The 8th China (Beijing) International Casting Industry Exhibition (CIEXPO)
LOCATION;ENCODING=QUOTED-PRINTABLE: Beijing
DESCRIPTION;ENCODING=QUOTED-PRINTABLE: More Details£º=0D=0A
DTSTART:20110810T000000Z 
DTEND:20110812T000000Z 
END:VEVENT
END:VCALENDAR