 BEGIN:VCALENDAR
VERSION:1.0
PRODID:SSPCA Web Calendar
TZ:-07
BEGIN:VEVENT
ORGANIZER:MAILTO: info9@grandeurhk.com
SUMMARY;ENCODING=QUOTED-PRINTABLE: The 2nd Guangzhou International Indoor Air Improving Industry Fair (AIF 2011)
LOCATION;ENCODING=QUOTED-PRINTABLE: Guangzhou
DESCRIPTION;ENCODING=QUOTED-PRINTABLE: More Details£º=0D=0A
DTSTART:20110811T000000Z 
DTEND:20110813T000000Z 
END:VEVENT
END:VCALENDAR