 BEGIN:VCALENDAR
VERSION:1.0
PRODID:SSPCA Web Calendar
TZ:-07
BEGIN:VEVENT
ORGANIZER:MAILTO: submit@itapconf.org
SUMMARY;ENCODING=QUOTED-PRINTABLE: The 2nd International Conference on Internet Technology and Applications (ITAP 2011)
LOCATION;ENCODING=QUOTED-PRINTABLE: Wuhan
DESCRIPTION;ENCODING=QUOTED-PRINTABLE: More Details£º=0D=0A
DTSTART:20110816T000000Z 
DTEND:20110818T000000Z 
END:VEVENT
END:VCALENDAR