 BEGIN:VCALENDAR
VERSION:1.0
PRODID:SSPCA Web Calendar
TZ:-07
BEGIN:VEVENT
ORGANIZER:MAILTO: hengjin98@vip.sina.com
SUMMARY;ENCODING=QUOTED-PRINTABLE: The 5th Shanghai International Assembly & Handling Technology Exhibition (AHTE 2011)
LOCATION;ENCODING=QUOTED-PRINTABLE: Shanghai
DESCRIPTION;ENCODING=QUOTED-PRINTABLE: More Details£º=0D=0A
DTSTART:20110816T000000Z 
DTEND:20110819T000000Z 
END:VEVENT
END:VCALENDAR