 BEGIN:VCALENDAR
VERSION:1.0
PRODID:SSPCA Web Calendar
TZ:-07
BEGIN:VEVENT
ORGANIZER:MAILTO: 373865674@qq.com
SUMMARY;ENCODING=QUOTED-PRINTABLE: ConcreteTech China 2015 - The 6th China International Concrete Industry Exhibition
LOCATION;ENCODING=QUOTED-PRINTABLE: Beijing
DESCRIPTION;ENCODING=QUOTED-PRINTABLE: More Details£º=0D=0A
DTSTART:20150427T000000Z 
DTEND:20150429T000000Z 
END:VEVENT
END:VCALENDAR