 BEGIN:VCALENDAR
VERSION:1.0
PRODID:SSPCA Web Calendar
TZ:-07
BEGIN:VEVENT
ORGANIZER:MAILTO: info@seafarechina.com
SUMMARY;ENCODING=QUOTED-PRINTABLE: Seafood Technology China 2014
LOCATION;ENCODING=QUOTED-PRINTABLE: Qingdao
DESCRIPTION;ENCODING=QUOTED-PRINTABLE: More Details£º=0D=0Ahttp://chinaexhibition.com/trade_events/6636-Seafood_Technology_China_2014.html
DTSTART:20141105T000000Z 
DTEND:20141107T000000Z 
END:VEVENT
END:VCALENDAR