 BEGIN:VCALENDAR
VERSION:1.0
PRODID:SSPCA Web Calendar
TZ:-07
BEGIN:VEVENT
ORGANIZER:MAILTO: jim@restaurantandbarhk.com
SUMMARY;ENCODING=QUOTED-PRINTABLE: Restaurant & Bar Hong Kong 2011
LOCATION;ENCODING=QUOTED-PRINTABLE: Hong Kong
DESCRIPTION;ENCODING=QUOTED-PRINTABLE: More Details£º=0D=0Ahttp://chinaexhibition.com/trade_events/681-Restaurant_and_Bar_Hong_Kong_2011.html
DTSTART:20110906T000000Z 
DTEND:20110908T000000Z 
END:VEVENT
END:VCALENDAR