 BEGIN:VCALENDAR
VERSION:1.0
PRODID:SSPCA Web Calendar
TZ:-07
BEGIN:VEVENT
ORGANIZER:MAILTO: xuruoqing@bibf.net
SUMMARY;ENCODING=QUOTED-PRINTABLE: The 18th Beijing International Book Fair (BIBF 2011)
LOCATION;ENCODING=QUOTED-PRINTABLE: Beijing
DESCRIPTION;ENCODING=QUOTED-PRINTABLE: More Details£º=0D=0A
DTSTART:20110831T000000Z 
DTEND:20110904T000000Z 
END:VEVENT
END:VCALENDAR