 BEGIN:VCALENDAR
VERSION:1.0
PRODID:SSPCA Web Calendar
TZ:-07
BEGIN:VEVENT
ORGANIZER:MAILTO: an.jun@ubexpo-shanghai.com
SUMMARY;ENCODING=QUOTED-PRINTABLE: The 6th China International Luxury Property Show (CILPS 2011)
LOCATION;ENCODING=QUOTED-PRINTABLE: Shanghai
DESCRIPTION;ENCODING=QUOTED-PRINTABLE: More Details£º=0D=0A
DTSTART:20110902T000000Z 
DTEND:20110904T000000Z 
END:VEVENT
END:VCALENDAR